BEGIN:VCALENDAR
VERSION:2.0
PRODID:-//Christmas Unlimited - ECPv6.15.20//NONSGML v1.0//EN
CALSCALE:GREGORIAN
METHOD:PUBLISH
X-WR-CALNAME:Christmas Unlimited
X-ORIGINAL-URL:https://www.christmasunlimited.org
X-WR-CALDESC:Events for Christmas Unlimited
REFRESH-INTERVAL;VALUE=DURATION:PT1H
X-Robots-Tag:noindex
X-PUBLISHED-TTL:PT1H
BEGIN:VTIMEZONE
TZID:UTC
BEGIN:STANDARD
TZOFFSETFROM:+0000
TZOFFSETTO:+0000
TZNAME:UTC
DTSTART:20180101T000000
END:STANDARD
END:VTIMEZONE
BEGIN:VTIMEZONE
TZID:America/Denver
BEGIN:DAYLIGHT
TZOFFSETFROM:-0700
TZOFFSETTO:-0600
TZNAME:MDT
DTSTART:20180311T090000
END:DAYLIGHT
BEGIN:STANDARD
TZOFFSETFROM:-0600
TZOFFSETTO:-0700
TZNAME:MST
DTSTART:20181104T080000
END:STANDARD
BEGIN:DAYLIGHT
TZOFFSETFROM:-0700
TZOFFSETTO:-0600
TZNAME:MDT
DTSTART:20190310T090000
END:DAYLIGHT
BEGIN:STANDARD
TZOFFSETFROM:-0600
TZOFFSETTO:-0700
TZNAME:MST
DTSTART:20191103T080000
END:STANDARD
BEGIN:DAYLIGHT
TZOFFSETFROM:-0700
TZOFFSETTO:-0600
TZNAME:MDT
DTSTART:20200308T090000
END:DAYLIGHT
BEGIN:STANDARD
TZOFFSETFROM:-0600
TZOFFSETTO:-0700
TZNAME:MST
DTSTART:20201101T080000
END:STANDARD
END:VTIMEZONE
BEGIN:VEVENT
DTSTART;TZID=UTC:20191208T143000
DTEND;TZID=UTC:20191208T180000
DTSTAMP:20260423T162047
CREATED:20191107T041259Z
LAST-MODIFIED:20191107T041259Z
UID:3790-1575815400-1575828000@www.christmasunlimited.org
SUMMARY:4th Annual Walk for Hope Children's Fashion Show to Benefit Christmas Unlimited
DESCRIPTION:Fashion show and toy drive to benefit Christmas Unlimited.
URL:https://www.christmasunlimited.org/event/the-walk-for-hope-childrens-fashion-show-2019
LOCATION:The Social\, 3506 N. Academy Blvd.\, Colorado Springs\, CO\, 80917\, United States
CATEGORIES:Fundraisers
END:VEVENT
BEGIN:VEVENT
DTSTART;TZID=America/Denver:20191207T120000
DTEND;TZID=America/Denver:20191207T140000
DTSTAMP:20260423T162047
CREATED:20191115T042201Z
LAST-MODIFIED:20191116T231316Z
UID:3856-1575720000-1575727200@www.christmasunlimited.org
SUMMARY:iHeart Radio Live Broadcast at Safeway Toy Drive Event
DESCRIPTION:My 99.9 KVUU will be broadcasting live from Safeway in Falcon\, CO from Noon to 2PM. \n\nGet your pictures taken with Mr. & Mrs. Santa Claus and the Coca-Cola Polar Bear\nFree candy canes for kids\nDrop off your toy or cash donations for Christmas Unlimited
URL:https://www.christmasunlimited.org/event/iheartradio-live-broadcast-at-safeway-falcon
LOCATION:Safeway 1644 – Falcon\, 7655 McLaughlin Road\, Falcon\, CO\, 80831\, United States
CATEGORIES:Fundraisers
END:VEVENT
BEGIN:VEVENT
DTSTART;TZID=UTC:20191207T090000
DTEND;TZID=UTC:20191207T120000
DTSTAMP:20260423T162047
CREATED:20191027T224354Z
LAST-MODIFIED:20191119T050956Z
UID:3721-1575709200-1575720000@www.christmasunlimited.org
SUMMARY:Chasing Santa 5K/Cycling Santa 15 Mile
DESCRIPTION:Celebrate Christmas with a 5k Run/Walk or 15 mile cycle. This holiday event is designed for the whole family. Christmas Unlimited is the 2019 Toy Drive Recipient.
URL:https://www.christmasunlimited.org/event/chasing-santa-5k-cycling-santa-10k/
LOCATION:Legacy Loop Plaza\, 1800 Recreation Way\, Colorado Springs\, CO\, 80907\, United States
CATEGORIES:Fundraisers
END:VEVENT
BEGIN:VEVENT
DTSTART;VALUE=DATE:20191206
DTEND;VALUE=DATE:20191225
DTSTAMP:20260423T162047
CREATED:20191027T224043Z
LAST-MODIFIED:20191027T224043Z
UID:3718-1575590400-1577231999@www.christmasunlimited.org
SUMMARY:Holiday Toy Distribution
DESCRIPTION:Our annual toy distribution program for families in need will run December 6 – December 24th. Distribution is by appointment only – a completed application is required. Application deadline is December 13\, 2019.  \nClick here for more information on how to apply. \n 
URL:https://www.christmasunlimited.org/event/holiday-toy-distribution/
LOCATION:Christmas Unlimited Headquarters\, 2204 E. Boulder Street\, Colorado Springs\, CO\, 80909\, United States
CATEGORIES:Distribution
ATTACH;FMTTYPE=image/jpeg:https://www.christmasunlimited.org/wp-content/uploads/2019/10/IMG_0181.jpg
END:VEVENT
BEGIN:VEVENT
DTSTART;TZID=America/Denver:20191130T120000
DTEND;TZID=America/Denver:20191130T140000
DTSTAMP:20260423T162047
CREATED:20191115T041802Z
LAST-MODIFIED:20191116T231333Z
UID:3852-1575115200-1575122400@www.christmasunlimited.org
SUMMARY:iHeart Radio Live Broadcast at Safeway Toy Drive Event
DESCRIPTION:107.9 KBPI will be broadcasting live from Safeway at Murray and Fountain from Noon to 2PM. \n\nGet your pictures taken with Mr. & Mrs. Santa Claus and the Coca-Cola Polar Bear\nFree candy canes for kids\nDrop off your toy or cash donations for Christmas Unlimited
URL:https://www.christmasunlimited.org/event/iheartradio-live-broadcast-at-safeway-murray-fountain
LOCATION:Safeway 1792 – Murray and Fountain\, 1425 S Murray Blvd\, Colorado Springs\, CO\, 80916\, United States
CATEGORIES:Fundraisers
END:VEVENT
BEGIN:VEVENT
DTSTART;TZID=America/Denver:20191123T160000
DTEND;TZID=America/Denver:20191123T180000
DTSTAMP:20260423T162047
CREATED:20191115T041154Z
LAST-MODIFIED:20191116T231410Z
UID:3849-1574524800-1574532000@www.christmasunlimited.org
SUMMARY:iHeart Radio Live Broadcast at Safeway Toy Drive Event
DESCRIPTION:96.1 The Beat KIBT will be broadcasting live from Safeway at Circle and Galley from 4pm to 6pm. \n\nGet your pictures taken with Mr. & Mrs. Santa Claus and the Coca-Cola Polar Bear\nFree candy canes for kids\nDrop off your toy or cash donations for Christmas Unlimited
URL:https://www.christmasunlimited.org/event/iheartradio-live-broadcast-at-safeway-circle
LOCATION:Safeway 1466 – Circle & Galley\, 1121 N. Circle Dr.\, Colorado Springs\, CO\, 80909\, United States
CATEGORIES:Fundraisers
END:VEVENT
BEGIN:VEVENT
DTSTART;TZID=America/Denver:20191116T120000
DTEND;TZID=America/Denver:20191116T140000
DTSTAMP:20260423T162047
CREATED:20191115T040600Z
LAST-MODIFIED:20191116T231422Z
UID:3846-1573905600-1573912800@www.christmasunlimited.org
SUMMARY:iHeart Radio Live Broadcast at Safeway Toy Drive Event
DESCRIPTION:106.3 Sunny KKLI will be broadcasting live from Safeway at Powers and Constitution from Noon to 2PM. \n\nGet your pictures taken with Mr. & Mrs. Santa Claus and the Coca-Cola Polar Bear\nFree candy canes for kids\nDrop off your toy or cash donations for Christmas Unlimited
URL:https://www.christmasunlimited.org/event/iheartradio-live-broadcast-at-safeway-powers
LOCATION:Safeway Powers & Constitution\, 2890 N. Powers Blvd.\, Colorado Springs\, CO\, 80922\, United States
CATEGORIES:Fundraisers
END:VEVENT
BEGIN:VEVENT
DTSTART;TZID=America/Denver:20191019T130000
DTEND;TZID=America/Denver:20191019T200000
DTSTAMP:20260423T162047
CREATED:20191014T050452Z
LAST-MODIFIED:20191014T051311Z
UID:3676-1571490000-1571515200@www.christmasunlimited.org
SUMMARY:Haunted Brew Fest 2019
DESCRIPTION:The Haunted Brew Fest 2019 will take place at Norris Penrose Indoor Event Center on Saturday October 19th with two separate sessions. A portion of proceeds from the event will benefit Christmas Unlimited. \nWe are also seeking volunteers for the event. More information available here.
URL:https://www.christmasunlimited.org/event/haunted-brew-fest-2019/
LOCATION:Norris Penrose Event Center\, 1045 Lower Gold Camp Rd\, Colorado Springs\, CO\, 80905\, United States
CATEGORIES:Fundraisers
ORGANIZER;CN="":MAILTO:mike@tapiaadvertising.com
END:VEVENT
BEGIN:VEVENT
DTSTART;TZID=UTC:20191019T090000
DTEND;TZID=UTC:20191020T160000
DTSTAMP:20260423T162047
CREATED:20191014T050914Z
LAST-MODIFIED:20191014T050914Z
UID:3680-1571475600-1571587200@www.christmasunlimited.org
SUMMARY:Colorado Springs Sugar Plum Food & Gift Mart
DESCRIPTION:Christmas Unlimited will be at the Sugar Plum Food and Gift Mart with Mr. and Mrs. Santa Claus. Photo opportunities available as well as assorted Halloween and Christmas items for sale.
URL:https://www.christmasunlimited.org/event/colorado-springs-sugar-plum-food-gift-mart/
LOCATION:Colorado Springs Event Center\, 3960 Palmer Park Blvd\, Colorado Springs\, CO\, 80909\, United States
CATEGORIES:Fundraisers
END:VEVENT
END:VCALENDAR