BEGIN:VCALENDAR
VERSION:2.0
PRODID:-//Christmas Unlimited - ECPv6.15.20//NONSGML v1.0//EN
CALSCALE:GREGORIAN
METHOD:PUBLISH
X-WR-CALNAME:Christmas Unlimited
X-ORIGINAL-URL:https://www.christmasunlimited.org
X-WR-CALDESC:Events for Christmas Unlimited
REFRESH-INTERVAL;VALUE=DURATION:PT1H
X-Robots-Tag:noindex
X-PUBLISHED-TTL:PT1H
BEGIN:VTIMEZONE
TZID:UTC
BEGIN:STANDARD
TZOFFSETFROM:+0000
TZOFFSETTO:+0000
TZNAME:UTC
DTSTART:20180101T000000
END:STANDARD
END:VTIMEZONE
BEGIN:VTIMEZONE
TZID:America/Denver
BEGIN:DAYLIGHT
TZOFFSETFROM:-0700
TZOFFSETTO:-0600
TZNAME:MDT
DTSTART:20180311T090000
END:DAYLIGHT
BEGIN:STANDARD
TZOFFSETFROM:-0600
TZOFFSETTO:-0700
TZNAME:MST
DTSTART:20181104T080000
END:STANDARD
BEGIN:DAYLIGHT
TZOFFSETFROM:-0700
TZOFFSETTO:-0600
TZNAME:MDT
DTSTART:20190310T090000
END:DAYLIGHT
BEGIN:STANDARD
TZOFFSETFROM:-0600
TZOFFSETTO:-0700
TZNAME:MST
DTSTART:20191103T080000
END:STANDARD
BEGIN:DAYLIGHT
TZOFFSETFROM:-0700
TZOFFSETTO:-0600
TZNAME:MDT
DTSTART:20200308T090000
END:DAYLIGHT
BEGIN:STANDARD
TZOFFSETFROM:-0600
TZOFFSETTO:-0700
TZNAME:MST
DTSTART:20201101T080000
END:STANDARD
BEGIN:DAYLIGHT
TZOFFSETFROM:-0700
TZOFFSETTO:-0600
TZNAME:MDT
DTSTART:20210314T090000
END:DAYLIGHT
BEGIN:STANDARD
TZOFFSETFROM:-0600
TZOFFSETTO:-0700
TZNAME:MST
DTSTART:20211107T080000
END:STANDARD
END:VTIMEZONE
BEGIN:VEVENT
DTSTART;TZID=UTC:20210814T100000
DTEND;TZID=UTC:20210814T150000
DTSTAMP:20260423T145105
CREATED:20210713T035301Z
LAST-MODIFIED:20210713T035410Z
UID:8175-1628935200-1628953200@www.christmasunlimited.org
SUMMARY:Cram a Cruiser
DESCRIPTION:The El Paso County Sheriff’s Office & MoGlo’s Coffee Shop will be hosting the 4th annual Cram a Cruiser school supply drive on August 14th. Drop off locations include: \n\n\n\n\n27 E Vermijo Ave – Office of the Sheriff\, 3rd Floor Entry\n27 E Vermijo Ave – Office of the Sheriff-Lobby\, CJC-Admin Office\n210 S Tejon Street – C&T Office\n2739 E Las Vegas Street – CJC Admin Office\n101 Fontaine Blvd – Mo Glo’s Coffee\n2465 Research Parkway – Todd Rodgers Dentist Office
URL:https://www.christmasunlimited.org/event/cram-a-cruiser/
CATEGORIES:Fundraisers
ATTACH;FMTTYPE=image/png:https://www.christmasunlimited.org/wp-content/uploads/2021/07/cram-a-cruiser-poster.png
END:VEVENT
BEGIN:VEVENT
DTSTART;VALUE=DATE:20210712
DTEND;VALUE=DATE:20210807
DTSTAMP:20260423T145105
CREATED:20210713T035801Z
LAST-MODIFIED:20210713T035914Z
UID:8179-1626048000-1628294399@www.christmasunlimited.org
SUMMARY:"Stuff the Bus" School Supply Drive
DESCRIPTION:Due to COVID-19 and continued economic stress\, we anticipate students will need essential school supplies more than ever in 2021. You can help “Stuff the Bus” for local families in need this year! Christmas Unlimited\, in partnership with Safeway\, Swire Coca-Cola\, Tapia Advertising\, Fox 21 and iHeart Radio\, have teamed up to “stuff the bus” for families in El Paso and Teller Counties. \n\n\n\nFrom July 12 through August 6\, 2021\, we will be collecting new school supplies and monetary donations to benefit Christmas Unlimited’s Operation Back to School program. \n\nFind out more information here.
URL:https://www.christmasunlimited.org/event/stuff-the-bus-school-supply-drive-kick-off/
CATEGORIES:Fundraisers
ATTACH;FMTTYPE=image/jpeg:https://www.christmasunlimited.org/wp-content/uploads/2021/07/Stuff-the-bus-750x970-1.jpg
END:VEVENT
BEGIN:VEVENT
DTSTART;TZID=UTC:20200626T100000
DTEND;TZID=UTC:20200626T150000
DTSTAMP:20260423T145105
CREATED:20200623T030346Z
LAST-MODIFIED:20200623T030430Z
UID:4389-1593165600-1593183600@www.christmasunlimited.org
SUMMARY:Christmas Unlimited Thrift Store Open
DESCRIPTION:The Christmas Unlimited thrift store is open to the general public and features a range of items available for sale — including seasonal items\, clothes\, shoes\, and household goods — at low prices. Proceeds from the thrift store benefit Christmas Unlimited’s programs. Open Fridays from 10AM-3PM.
URL:https://www.christmasunlimited.org/event/thriftstore-62620
LOCATION:Christmas Unlimited Headquarters\, 2204 E. Boulder Street\, Colorado Springs\, CO\, 80909\, United States
CATEGORIES:Fundraisers
END:VEVENT
BEGIN:VEVENT
DTSTART;TZID=UTC:20200403T100000
DTEND;TZID=UTC:20200403T150000
DTSTAMP:20260423T145105
CREATED:20200309T020138Z
LAST-MODIFIED:20200309T020138Z
UID:4215-1585908000-1585926000@www.christmasunlimited.org
SUMMARY:Christmas Unlimited Thrift Store Open
DESCRIPTION:The Christmas Unlimited store is open to the general public and features a range of items available for sale — including seasonal items\, clothes\, shoes\, and household goods — at low prices. Proceeds from the thrift store benefit Christmas Unlimited’s programs.
URL:https://www.christmasunlimited.org/event/christmas-unlimited-thrift-store-open-5/
LOCATION:Christmas Unlimited Headquarters\, 2204 E. Boulder Street\, Colorado Springs\, CO\, 80909\, United States
CATEGORIES:Fundraisers
END:VEVENT
BEGIN:VEVENT
DTSTART;TZID=UTC:20200328T100000
DTEND;TZID=UTC:20200328T150000
DTSTAMP:20260423T145105
CREATED:20200309T015604Z
LAST-MODIFIED:20200309T015604Z
UID:4208-1585389600-1585407600@www.christmasunlimited.org
SUMMARY:Christmas Unlimited Thrift Store Open
DESCRIPTION:The Christmas Unlimited store is open to the general public and features a range of items available for sale — including seasonal items\, clothes\, shoes\, and household goods — at low prices. Proceeds from the thrift store benefit Christmas Unlimited’s programs\,
URL:https://www.christmasunlimited.org/event/christmas-unlimited-thrift-store-open-2/
LOCATION:Christmas Unlimited Headquarters\, 2204 E. Boulder Street\, Colorado Springs\, CO\, 80909\, United States
CATEGORIES:Fundraisers
END:VEVENT
BEGIN:VEVENT
DTSTART;TZID=UTC:20200327T100000
DTEND;TZID=UTC:20200327T150000
DTSTAMP:20260423T145105
CREATED:20200309T020004Z
LAST-MODIFIED:20200309T020004Z
UID:4213-1585303200-1585321200@www.christmasunlimited.org
SUMMARY:Christmas Unlimited Thrift Store Open
DESCRIPTION:The Christmas Unlimited store is open to the general public and features a range of items available for sale — including seasonal items\, clothes\, shoes\, and household goods — at low prices. Proceeds from the thrift store benefit Christmas Unlimited’s programs.
URL:https://www.christmasunlimited.org/event/christmas-unlimited-thrift-store-open-4/
LOCATION:Christmas Unlimited Headquarters\, 2204 E. Boulder Street\, Colorado Springs\, CO\, 80909\, United States
CATEGORIES:Fundraisers
END:VEVENT
BEGIN:VEVENT
DTSTART;TZID=UTC:20200321T100000
DTEND;TZID=UTC:20200321T150000
DTSTAMP:20260423T145105
CREATED:20200309T015415Z
LAST-MODIFIED:20200309T015635Z
UID:4206-1584784800-1584802800@www.christmasunlimited.org
SUMMARY:Christmas Unlimited Thrift Store Open
DESCRIPTION:The Christmas Unlimited store is open to the general public and features a range of items available for sale — including seasonal items\, clothes\, shoes\, and household goods — at low prices. Proceeds from the thrift store benefit Christmas Unlimited’s programs\, including our annual School Supply Distribution and Holiday Toy Distribution programs.
URL:https://www.christmasunlimited.org/event/christmas-unlimited-thrift-store-open/
LOCATION:Christmas Unlimited Headquarters\, 2204 E. Boulder Street\, Colorado Springs\, CO\, 80909\, United States
CATEGORIES:Fundraisers
END:VEVENT
BEGIN:VEVENT
DTSTART;TZID=UTC:20200320T100000
DTEND;TZID=UTC:20200320T150000
DTSTAMP:20260423T145105
CREATED:20200309T015826Z
LAST-MODIFIED:20200309T015912Z
UID:4210-1584698400-1584716400@www.christmasunlimited.org
SUMMARY:Christmas Unlimited Thrift Store Open
DESCRIPTION:The Christmas Unlimited store is open to the general public and features a range of items available for sale — including seasonal items\, clothes\, shoes\, and household goods — at low prices. Proceeds from the thrift store benefit Christmas Unlimited’s programs.
URL:https://www.christmasunlimited.org/event/christmas-unlimited-thrift-store-open-3/
LOCATION:Christmas Unlimited Headquarters\, 2204 E. Boulder Street\, Colorado Springs\, CO\, 80909\, United States
CATEGORIES:Fundraisers
END:VEVENT
BEGIN:VEVENT
DTSTART;TZID=America/Denver:20200313T100000
DTEND;TZID=America/Denver:20200313T150000
DTSTAMP:20260423T145105
CREATED:20200309T015000Z
LAST-MODIFIED:20200309T015731Z
UID:4202-1584093600-1584111600@www.christmasunlimited.org
SUMMARY:Christmas Unlimited Thrift Store Open
DESCRIPTION:The Christmas Unlimited store is open to the general public and features a range of items available for sale — including seasonal items\, clothes\, shoes\, and household goods — at low prices. Proceeds from the thrift store benefit Christmas Unlimited’s programs\, including our annual School Supply Distribution and Holiday Toy Distribution programs.
URL:https://www.christmasunlimited.org/event/christmas-unlimited-thrift-store-3-14/
LOCATION:Christmas Unlimited Headquarters\, 2204 E. Boulder Street\, Colorado Springs\, CO\, 80909\, United States
CATEGORIES:Fundraisers
END:VEVENT
BEGIN:VEVENT
DTSTART;TZID=UTC:20191214T120000
DTEND;TZID=UTC:20191214T150000
DTSTAMP:20260423T145105
CREATED:20191107T040648Z
LAST-MODIFIED:20191107T040648Z
UID:3787-1576324800-1576335600@www.christmasunlimited.org
SUMMARY:FRPC 2nd Annual Holiday Family Event with Santa
DESCRIPTION:FRPC is hosting their 2nd Annual Holiday Family Event with Santa to Benefit Christmas Unlimited! \n**It is FREE to attend\, but please bring a new unwrapped toy or cash donation for Christmas Unlimited if you are able.** \nFeaturing:\n*Free hot dogs grilled by the Colorado Springs Fire Department\n*Free pizza from Louie’s Pizza\, cookies\, and Coca-Cola products\n*Free take-your-own photo station with both Santa & Mrs. Claus\n*CSFD fire fighters\, Sparky the Fire Dog\, fire trucks & museum tours\n*CSPD and Sheriff’s Department kids 911 education & finger printing\n*The Coca-Cola Polar Bear\, holiday card and stocking-decorating\n*Gingerbread house building contest for both kids AND adults\nAwards for Tastiest\, Most Creative\, and more!\n*Live 96.9 broadcast and Christmas Unlimited raffle prizes\n*Come in your ugliest holiday sweater for a chance to win a prize\n*Face painting and Nigel Cass Agency hot wheels track for the kids\n*Plenty of giveaways and holiday spirit\n*Santa arrives at 12:15pm aboard the Toys for Tots Firetruck! \nSponsored By:\n–Swire Coca-Cola\n-Safeway\n–FedEx Office\n–Louie’s Pizza\n-Total Care Estate & Property Services\n–Nigel Cass Agency Inc\, American Family Insurance\n-Tapia Advertising\n-iHeartRadio\n–Kccy 96.9 FM\n-Fox21
URL:https://www.christmasunlimited.org/event/frpc-2nd-annual-holiday-family-event-with-santa/
LOCATION:Colorado Springs Fire Complex & the Dr. Lester L. Williams Fire Museum\, 375 Printers Pkwy\, Colorado Springs\, CO\, 80909\, United States
CATEGORIES:Fundraisers
END:VEVENT
BEGIN:VEVENT
DTSTART;TZID=UTC:20191208T143000
DTEND;TZID=UTC:20191208T180000
DTSTAMP:20260423T145105
CREATED:20191107T041259Z
LAST-MODIFIED:20191107T041259Z
UID:3790-1575815400-1575828000@www.christmasunlimited.org
SUMMARY:4th Annual Walk for Hope Children's Fashion Show to Benefit Christmas Unlimited
DESCRIPTION:Fashion show and toy drive to benefit Christmas Unlimited.
URL:https://www.christmasunlimited.org/event/the-walk-for-hope-childrens-fashion-show-2019
LOCATION:The Social\, 3506 N. Academy Blvd.\, Colorado Springs\, CO\, 80917\, United States
CATEGORIES:Fundraisers
END:VEVENT
BEGIN:VEVENT
DTSTART;TZID=America/Denver:20191207T120000
DTEND;TZID=America/Denver:20191207T140000
DTSTAMP:20260423T145105
CREATED:20191115T042201Z
LAST-MODIFIED:20191116T231316Z
UID:3856-1575720000-1575727200@www.christmasunlimited.org
SUMMARY:iHeart Radio Live Broadcast at Safeway Toy Drive Event
DESCRIPTION:My 99.9 KVUU will be broadcasting live from Safeway in Falcon\, CO from Noon to 2PM. \n\nGet your pictures taken with Mr. & Mrs. Santa Claus and the Coca-Cola Polar Bear\nFree candy canes for kids\nDrop off your toy or cash donations for Christmas Unlimited
URL:https://www.christmasunlimited.org/event/iheartradio-live-broadcast-at-safeway-falcon
LOCATION:Safeway 1644 – Falcon\, 7655 McLaughlin Road\, Falcon\, CO\, 80831\, United States
CATEGORIES:Fundraisers
END:VEVENT
BEGIN:VEVENT
DTSTART;TZID=UTC:20191207T090000
DTEND;TZID=UTC:20191207T120000
DTSTAMP:20260423T145105
CREATED:20191027T224354Z
LAST-MODIFIED:20191119T050956Z
UID:3721-1575709200-1575720000@www.christmasunlimited.org
SUMMARY:Chasing Santa 5K/Cycling Santa 15 Mile
DESCRIPTION:Celebrate Christmas with a 5k Run/Walk or 15 mile cycle. This holiday event is designed for the whole family. Christmas Unlimited is the 2019 Toy Drive Recipient.
URL:https://www.christmasunlimited.org/event/chasing-santa-5k-cycling-santa-10k/
LOCATION:Legacy Loop Plaza\, 1800 Recreation Way\, Colorado Springs\, CO\, 80907\, United States
CATEGORIES:Fundraisers
END:VEVENT
BEGIN:VEVENT
DTSTART;VALUE=DATE:20191206
DTEND;VALUE=DATE:20191225
DTSTAMP:20260423T145105
CREATED:20191027T224043Z
LAST-MODIFIED:20191027T224043Z
UID:3718-1575590400-1577231999@www.christmasunlimited.org
SUMMARY:Holiday Toy Distribution
DESCRIPTION:Our annual toy distribution program for families in need will run December 6 – December 24th. Distribution is by appointment only – a completed application is required. Application deadline is December 13\, 2019.  \nClick here for more information on how to apply. \n 
URL:https://www.christmasunlimited.org/event/holiday-toy-distribution/
LOCATION:Christmas Unlimited Headquarters\, 2204 E. Boulder Street\, Colorado Springs\, CO\, 80909\, United States
CATEGORIES:Distribution
ATTACH;FMTTYPE=image/jpeg:https://www.christmasunlimited.org/wp-content/uploads/2019/10/IMG_0181.jpg
END:VEVENT
BEGIN:VEVENT
DTSTART;TZID=America/Denver:20191130T120000
DTEND;TZID=America/Denver:20191130T140000
DTSTAMP:20260423T145105
CREATED:20191115T041802Z
LAST-MODIFIED:20191116T231333Z
UID:3852-1575115200-1575122400@www.christmasunlimited.org
SUMMARY:iHeart Radio Live Broadcast at Safeway Toy Drive Event
DESCRIPTION:107.9 KBPI will be broadcasting live from Safeway at Murray and Fountain from Noon to 2PM. \n\nGet your pictures taken with Mr. & Mrs. Santa Claus and the Coca-Cola Polar Bear\nFree candy canes for kids\nDrop off your toy or cash donations for Christmas Unlimited
URL:https://www.christmasunlimited.org/event/iheartradio-live-broadcast-at-safeway-murray-fountain
LOCATION:Safeway 1792 – Murray and Fountain\, 1425 S Murray Blvd\, Colorado Springs\, CO\, 80916\, United States
CATEGORIES:Fundraisers
END:VEVENT
BEGIN:VEVENT
DTSTART;TZID=America/Denver:20191123T160000
DTEND;TZID=America/Denver:20191123T180000
DTSTAMP:20260423T145105
CREATED:20191115T041154Z
LAST-MODIFIED:20191116T231410Z
UID:3849-1574524800-1574532000@www.christmasunlimited.org
SUMMARY:iHeart Radio Live Broadcast at Safeway Toy Drive Event
DESCRIPTION:96.1 The Beat KIBT will be broadcasting live from Safeway at Circle and Galley from 4pm to 6pm. \n\nGet your pictures taken with Mr. & Mrs. Santa Claus and the Coca-Cola Polar Bear\nFree candy canes for kids\nDrop off your toy or cash donations for Christmas Unlimited
URL:https://www.christmasunlimited.org/event/iheartradio-live-broadcast-at-safeway-circle
LOCATION:Safeway 1466 – Circle & Galley\, 1121 N. Circle Dr.\, Colorado Springs\, CO\, 80909\, United States
CATEGORIES:Fundraisers
END:VEVENT
BEGIN:VEVENT
DTSTART;TZID=America/Denver:20191116T120000
DTEND;TZID=America/Denver:20191116T140000
DTSTAMP:20260423T145105
CREATED:20191115T040600Z
LAST-MODIFIED:20191116T231422Z
UID:3846-1573905600-1573912800@www.christmasunlimited.org
SUMMARY:iHeart Radio Live Broadcast at Safeway Toy Drive Event
DESCRIPTION:106.3 Sunny KKLI will be broadcasting live from Safeway at Powers and Constitution from Noon to 2PM. \n\nGet your pictures taken with Mr. & Mrs. Santa Claus and the Coca-Cola Polar Bear\nFree candy canes for kids\nDrop off your toy or cash donations for Christmas Unlimited
URL:https://www.christmasunlimited.org/event/iheartradio-live-broadcast-at-safeway-powers
LOCATION:Safeway Powers & Constitution\, 2890 N. Powers Blvd.\, Colorado Springs\, CO\, 80922\, United States
CATEGORIES:Fundraisers
END:VEVENT
BEGIN:VEVENT
DTSTART;TZID=America/Denver:20191019T130000
DTEND;TZID=America/Denver:20191019T200000
DTSTAMP:20260423T145105
CREATED:20191014T050452Z
LAST-MODIFIED:20191014T051311Z
UID:3676-1571490000-1571515200@www.christmasunlimited.org
SUMMARY:Haunted Brew Fest 2019
DESCRIPTION:The Haunted Brew Fest 2019 will take place at Norris Penrose Indoor Event Center on Saturday October 19th with two separate sessions. A portion of proceeds from the event will benefit Christmas Unlimited. \nWe are also seeking volunteers for the event. More information available here.
URL:https://www.christmasunlimited.org/event/haunted-brew-fest-2019/
LOCATION:Norris Penrose Event Center\, 1045 Lower Gold Camp Rd\, Colorado Springs\, CO\, 80905\, United States
CATEGORIES:Fundraisers
ORGANIZER;CN="":MAILTO:mike@tapiaadvertising.com
END:VEVENT
BEGIN:VEVENT
DTSTART;TZID=UTC:20191019T090000
DTEND;TZID=UTC:20191020T160000
DTSTAMP:20260423T145105
CREATED:20191014T050914Z
LAST-MODIFIED:20191014T050914Z
UID:3680-1571475600-1571587200@www.christmasunlimited.org
SUMMARY:Colorado Springs Sugar Plum Food & Gift Mart
DESCRIPTION:Christmas Unlimited will be at the Sugar Plum Food and Gift Mart with Mr. and Mrs. Santa Claus. Photo opportunities available as well as assorted Halloween and Christmas items for sale.
URL:https://www.christmasunlimited.org/event/colorado-springs-sugar-plum-food-gift-mart/
LOCATION:Colorado Springs Event Center\, 3960 Palmer Park Blvd\, Colorado Springs\, CO\, 80909\, United States
CATEGORIES:Fundraisers
END:VEVENT
END:VCALENDAR